BEGIN:VCALENDAR
VERSION:2.0
PRODID:gruenefw-lup.de
METHOD:PUBLISH
BEGIN:VTIMEZONE
TZID:Europe/Berlin
X-LIC-LOCATION:Europe/Berlin
BEGIN:DAYLIGHT
TZOFFSETFROM:+0100
TZOFFSETTO:+0200
TZNAME:CEST
DTSTART:19700329T020000
RRULE:FREQ=YEARLY;INTERVAL=1;BYDAY=-1SU;BYMONTH=3
END:DAYLIGHT
BEGIN:STANDARD
TZOFFSETFROM:+0200
TZOFFSETTO:+0100
TZNAME:CET
DTSTART:19701025T030000
RRULE:FREQ=YEARLY;INTERVAL=1;BYDAY=-1SU;BYMONTH=10
END:STANDARD
END:VTIMEZONE
BEGIN:VEVENT
UID:0face3b08db3d6c8906933246e6881d1@gruenefw-lup.de
URL;VALUE=URI:https://gruenefw-lup.de/termine/fraktionssitzung-mestlin/
LOCATION:Mestlin
SUMMARY:Öffentliche Fraktionssitzung
DESCRIPTION;ALTREP="data:text/html,%0A%3Cp%3ESie%20sind%20herzlich%20eing
 eladen%2C%20an%20der%20%C3%B6ffentlichen%20Fraktionssitzung%20teilzunehme
 n.%20%3C%2Fp%3E%0A%0A%0A%0A%3Cp%3E%3C%2Fp%3E%0A":Sie sind herzlich eingel
 aden\, an der öffentlichen Fraktionssitzung teilzunehmen.
CLASS:PUBLIC
DTSTART;TZID=Europe/Berlin:20260619T160000
DTEND;TZID=Europe/Berlin:20260619T200000
DTSTAMP:20260423T024918
END:VEVENT
END:VCALENDAR